BEGIN:VCALENDAR
VERSION:2.0
PRODID:-//Odysseus - ECPv6.15.17.1//NONSGML v1.0//EN
CALSCALE:GREGORIAN
METHOD:PUBLISH
X-WR-CALNAME:Odysseus
X-ORIGINAL-URL:https://www.akvodysseus.nl
X-WR-CALDESC:Evenementen voor Odysseus
REFRESH-INTERVAL;VALUE=DURATION:PT1H
X-Robots-Tag:noindex
X-PUBLISHED-TTL:PT1H
BEGIN:VTIMEZONE
TZID:Europe/Amsterdam
BEGIN:DAYLIGHT
TZOFFSETFROM:+0100
TZOFFSETTO:+0200
TZNAME:CEST
DTSTART:20240331T010000
END:DAYLIGHT
BEGIN:STANDARD
TZOFFSETFROM:+0200
TZOFFSETTO:+0100
TZNAME:CET
DTSTART:20241027T010000
END:STANDARD
BEGIN:DAYLIGHT
TZOFFSETFROM:+0100
TZOFFSETTO:+0200
TZNAME:CEST
DTSTART:20250330T010000
END:DAYLIGHT
BEGIN:STANDARD
TZOFFSETFROM:+0200
TZOFFSETTO:+0100
TZNAME:CET
DTSTART:20251026T010000
END:STANDARD
BEGIN:DAYLIGHT
TZOFFSETFROM:+0100
TZOFFSETTO:+0200
TZNAME:CEST
DTSTART:20260329T010000
END:DAYLIGHT
BEGIN:STANDARD
TZOFFSETFROM:+0200
TZOFFSETTO:+0100
TZNAME:CET
DTSTART:20261025T010000
END:STANDARD
BEGIN:DAYLIGHT
TZOFFSETFROM:+0100
TZOFFSETTO:+0200
TZNAME:CEST
DTSTART:20270328T010000
END:DAYLIGHT
BEGIN:STANDARD
TZOFFSETFROM:+0200
TZOFFSETTO:+0100
TZNAME:CET
DTSTART:20271031T010000
END:STANDARD
END:VTIMEZONE
BEGIN:VEVENT
DTSTART;TZID=Europe/Amsterdam:20260123T190000
DTEND;TZID=Europe/Amsterdam:20260123T200000
DTSTAMP:20260418T195432
CREATED:20250924T202740Z
LAST-MODIFIED:20260114T205630Z
UID:5817-1769194800-1769198400@www.akvodysseus.nl
SUMMARY:Trimzwemtraining
DESCRIPTION:Werken aan conditie en zwemtechniek.
URL:https://www.akvodysseus.nl/event/zwemtraining-2/
LOCATION:zwembad Hoornsevaart\, Hertog Aalbrechtweg 4\, Alkmaar\, Nederland
END:VEVENT
BEGIN:VEVENT
DTSTART;TZID=Europe/Amsterdam:20260117T183000
DTEND;TZID=Europe/Amsterdam:20260117T200000
DTSTAMP:20260418T195432
CREATED:20250803T130152Z
LAST-MODIFIED:20260114T205451Z
UID:5761-1768674600-1768680000@www.akvodysseus.nl
SUMMARY:Zwembadtraining (3)
DESCRIPTION:Voor iedereen.
URL:https://www.akvodysseus.nl/event/zwembadtraining-3/
LOCATION:zwembad Hoornsevaart\, Hertog Aalbrechtweg 4\, Alkmaar\, Nederland
ORGANIZER;CN="Zeekanocommissie":MAILTO:zeekano@akvodysseus
END:VEVENT
BEGIN:VEVENT
DTSTART;TZID=Europe/Amsterdam:20260107T190000
DTEND;TZID=Europe/Amsterdam:20260107T200000
DTSTAMP:20260418T195432
CREATED:20250924T202642Z
LAST-MODIFIED:20251220T114719Z
UID:5815-1767812400-1767816000@www.akvodysseus.nl
SUMMARY:Trimzwemtraining
DESCRIPTION:Werken aan conditie en zwemtechniek.
URL:https://www.akvodysseus.nl/event/zwemtraining/
LOCATION:zwembad Hoornsevaart\, Hertog Aalbrechtweg 4\, Alkmaar\, Nederland
END:VEVENT
BEGIN:VEVENT
DTSTART;TZID=Europe/Amsterdam:20260104T120000
DTEND;TZID=Europe/Amsterdam:20260104T170000
DTSTAMP:20260418T195432
CREATED:20251220T125004Z
LAST-MODIFIED:20251220T125004Z
UID:5919-1767528000-1767546000@www.akvodysseus.nl
SUMMARY:Nieuwjaarsbrunch
DESCRIPTION:Informatie en opgeven staat onder Nieuws.
URL:https://www.akvodysseus.nl/event/nieuwjaarsbrunch/
LOCATION:Clubgebouw Odysseus\, Vondelstraat 86\, Alkmaar\, 1814 KT\, Nederland
END:VEVENT
BEGIN:VEVENT
DTSTART;TZID=Europe/Amsterdam:20251228T081500
DTEND;TZID=Europe/Amsterdam:20251228T183000
DTSTAMP:20260418T195432
CREATED:20251211T125422Z
LAST-MODIFIED:20251220T124826Z
UID:5887-1766909700-1766946600@www.akvodysseus.nl
SUMMARY:Oliebollentocht
DESCRIPTION:Informatie staat onder Nieuws. En informatie bij Kiek.
URL:https://www.akvodysseus.nl/event/oliebollentocht/
END:VEVENT
BEGIN:VEVENT
DTSTART;TZID=Europe/Amsterdam:20251220T183000
DTEND;TZID=Europe/Amsterdam:20251220T200000
DTSTAMP:20260418T195432
CREATED:20250803T130112Z
LAST-MODIFIED:20260114T205415Z
UID:5759-1766255400-1766260800@www.akvodysseus.nl
SUMMARY:Zwembadtraining (2)
DESCRIPTION:Voor zeekajakkers.
URL:https://www.akvodysseus.nl/event/zwembadtraining-2/
LOCATION:zwembad Hoornsevaart\, Hertog Aalbrechtweg 4\, Alkmaar\, Nederland
ORGANIZER;CN="Zeekanocommissie":MAILTO:zeekano@akvodysseus
END:VEVENT
BEGIN:VEVENT
DTSTART;TZID=Europe/Amsterdam:20251129T090000
DTEND;TZID=Europe/Amsterdam:20251129T123000
DTSTAMP:20260418T195432
CREATED:20251116T171432Z
LAST-MODIFIED:20251119T113110Z
UID:5849-1764406800-1764419400@www.akvodysseus.nl
SUMMARY:Schoonmaakdag
DESCRIPTION:Voor meer informatie: Zie het Nieuwsbericht !
URL:https://www.akvodysseus.nl/event/schoonmaakdag-29-november/
LOCATION:Clubgebouw Odysseus\, Vondelstraat 86\, Alkmaar\, 1814 KT\, Nederland
END:VEVENT
BEGIN:VEVENT
DTSTART;TZID=Europe/Amsterdam:20251121T200000
DTEND;TZID=Europe/Amsterdam:20251121T230000
DTSTAMP:20260418T195432
CREATED:20251029T160702Z
LAST-MODIFIED:20251119T113304Z
UID:5846-1763755200-1763766000@www.akvodysseus.nl
SUMMARY:Najaarsbijeenkomst
DESCRIPTION:Voor meer informatie: Zie het Nieuwsbericht !
URL:https://www.akvodysseus.nl/event/najaarsbijeenkomst/
LOCATION:Clubgebouw Odysseus\, Vondelstraat 86\, Alkmaar\, 1814 KT\, Nederland
END:VEVENT
BEGIN:VEVENT
DTSTART;TZID=Europe/Amsterdam:20251115T183000
DTEND;TZID=Europe/Amsterdam:20251115T200000
DTSTAMP:20260418T195432
CREATED:20250803T125949Z
LAST-MODIFIED:20250924T195606Z
UID:5756-1763231400-1763236800@www.akvodysseus.nl
SUMMARY:Zwembadtraining (1)
DESCRIPTION:Voor iedereen.
URL:https://www.akvodysseus.nl/event/zwembadtraining/
LOCATION:zwembad Hoornsevaart\, Hertog Aalbrechtweg 4\, Alkmaar\, Nederland
ORGANIZER;CN="Zeekanocommissie":MAILTO:zeekano@akvodysseus
END:VEVENT
BEGIN:VEVENT
DTSTART;VALUE=DATE:20251026
DTEND;VALUE=DATE:20251027
DTSTAMP:20260418T195432
CREATED:20250416T080429Z
LAST-MODIFIED:20250416T080429Z
UID:5608-1761436800-1761523199@www.akvodysseus.nl
SUMMARY:Zeekanotocht Medemblik - De Kreupel - Buurtjeshaven
DESCRIPTION:
URL:https://www.akvodysseus.nl/event/zeekanotocht-medemblik-de-kreupel-buurtjeshaven-2/
ORGANIZER;CN="Zeekanocommissie":MAILTO:zeekano@akvodysseus
END:VEVENT
END:VCALENDAR