BEGIN:VCALENDAR
VERSION:2.0
PRODID:-//Odysseus - ECPv6.15.17.1//NONSGML v1.0//EN
CALSCALE:GREGORIAN
METHOD:PUBLISH
X-WR-CALNAME:Odysseus
X-ORIGINAL-URL:https://www.akvodysseus.nl
X-WR-CALDESC:Evenementen voor Odysseus
REFRESH-INTERVAL;VALUE=DURATION:PT1H
X-Robots-Tag:noindex
X-PUBLISHED-TTL:PT1H
BEGIN:VTIMEZONE
TZID:Europe/Amsterdam
BEGIN:DAYLIGHT
TZOFFSETFROM:+0100
TZOFFSETTO:+0200
TZNAME:CEST
DTSTART:20240331T010000
END:DAYLIGHT
BEGIN:STANDARD
TZOFFSETFROM:+0200
TZOFFSETTO:+0100
TZNAME:CET
DTSTART:20241027T010000
END:STANDARD
BEGIN:DAYLIGHT
TZOFFSETFROM:+0100
TZOFFSETTO:+0200
TZNAME:CEST
DTSTART:20250330T010000
END:DAYLIGHT
BEGIN:STANDARD
TZOFFSETFROM:+0200
TZOFFSETTO:+0100
TZNAME:CET
DTSTART:20251026T010000
END:STANDARD
BEGIN:DAYLIGHT
TZOFFSETFROM:+0100
TZOFFSETTO:+0200
TZNAME:CEST
DTSTART:20260329T010000
END:DAYLIGHT
BEGIN:STANDARD
TZOFFSETFROM:+0200
TZOFFSETTO:+0100
TZNAME:CET
DTSTART:20261025T010000
END:STANDARD
END:VTIMEZONE
BEGIN:VEVENT
DTSTART;TZID=Europe/Amsterdam:20251121T200000
DTEND;TZID=Europe/Amsterdam:20251121T230000
DTSTAMP:20260422T134543
CREATED:20251029T160702Z
LAST-MODIFIED:20251119T113304Z
UID:5846-1763755200-1763766000@www.akvodysseus.nl
SUMMARY:Najaarsbijeenkomst
DESCRIPTION:Voor meer informatie: Zie het Nieuwsbericht !
URL:https://www.akvodysseus.nl/event/najaarsbijeenkomst/
LOCATION:Clubgebouw Odysseus\, Vondelstraat 86\, Alkmaar\, 1814 KT\, Nederland
END:VEVENT
BEGIN:VEVENT
DTSTART;TZID=Europe/Amsterdam:20251115T183000
DTEND;TZID=Europe/Amsterdam:20251115T200000
DTSTAMP:20260422T134543
CREATED:20250803T125949Z
LAST-MODIFIED:20250924T195606Z
UID:5756-1763231400-1763236800@www.akvodysseus.nl
SUMMARY:Zwembadtraining (1)
DESCRIPTION:Voor iedereen.
URL:https://www.akvodysseus.nl/event/zwembadtraining/
LOCATION:zwembad Hoornsevaart\, Hertog Aalbrechtweg 4\, Alkmaar\, Nederland
ORGANIZER;CN="Zeekanocommissie":MAILTO:zeekano@akvodysseus
END:VEVENT
BEGIN:VEVENT
DTSTART;VALUE=DATE:20251026
DTEND;VALUE=DATE:20251027
DTSTAMP:20260422T134543
CREATED:20250416T080429Z
LAST-MODIFIED:20250416T080429Z
UID:5608-1761436800-1761523199@www.akvodysseus.nl
SUMMARY:Zeekanotocht Medemblik - De Kreupel - Buurtjeshaven
DESCRIPTION:
URL:https://www.akvodysseus.nl/event/zeekanotocht-medemblik-de-kreupel-buurtjeshaven-2/
ORGANIZER;CN="Zeekanocommissie":MAILTO:zeekano@akvodysseus
END:VEVENT
END:VCALENDAR